BEGIN:VCALENDAR
VERSION:2.0
PRODID:-//pretix//pretix.eu//
BEGIN:VTIMEZONE
TZID:Europe/Berlin
BEGIN:STANDARD
DTSTART:20001029T040000
RRULE:FREQ=YEARLY;BYDAY=-1SU;BYMONTH=10
TZNAME:CET
TZOFFSETFROM:+0200
TZOFFSETTO:+0100
END:STANDARD
BEGIN:DAYLIGHT
DTSTART:20000326T030000
RRULE:FREQ=YEARLY;BYDAY=-1SU;BYMONTH=3
TZNAME:CEST
TZOFFSETFROM:+0100
TZOFFSETTO:+0200
END:DAYLIGHT
END:VTIMEZONE
BEGIN:VEVENT
UID:pretix-haus-im-moos-sensen-6-4822137@tickets.haus-im-moos.de
DTSTART;TZID=Europe/Berlin:20261003T080000
DTEND;TZID=Europe/Berlin:20261003T160000
DESCRIPTION:Tickets: https://tickets.haus-im-moos.de/sensen-6/4822137/\nVer
 anstalter: Haus im Moos
DTSTAMP:20260426T035456Z
LOCATION:Haus im Moos\, Kleinhohenried 108\, 86668 Karlshuld
SUMMARY:Sensenmähen und -dengeln für den Hausgebrauch - Theorie- und Prax
 iskurs
END:VEVENT
END:VCALENDAR
